BEGIN:VCALENDAR
VERSION:2.0
CALSCALE:GREGORIAN
METHOD:PUBLISH
X-WR-TIMEZONE:Australia/Sydney
BEGIN:VTIMEZONE
TZID:Australia/Sydney
BEGIN:STANDARD
TZNAME:AEST
END:STANDARD
END:VTIMEZONE
BEGIN:VEVENT
DTSTART;TZID=Australia/Sydney:20200706
DTEND;TZID=Australia/Sydney:20200706
RRULE:FREQ=WEEKLY;UNTIL=20200719T000000;BYDAY=MO,TU,WE,TH,FR
DTSTAMP:20260421T183458
UID:356
SUMMARY:School Holidays
DESCRIPTION:







SEQUENCE:0
STATUS:CONFIRMED
TRANSP:OPAQUE
END:VEVENT
END:VCALENDAR